Package: HiCDOC Version: 1.12.0 Command: /home/biocbuild/bbs-3.22-bioc/R/bin/R CMD check --install=check:HiCDOC.install-out.txt --library=/home/biocbuild/bbs-3.22-bioc/R/site-library --timings HiCDOC_1.12.0.tar.gz StartedAt: 2025-11-14 00:34:48 -0500 (Fri, 14 Nov 2025) EndedAt: 2025-11-14 00:43:47 -0500 (Fri, 14 Nov 2025) EllapsedTime: 539.7 seconds RetCode: 0 Status: OK CheckDir: HiCDOC.Rcheck Warnings: 0