Package: HiCDOC Version: 1.12.0 Command: /home/biocbuild/bbs-3.22-bioc/R/bin/R CMD build --keep-empty-dirs --no-resave-data --md5 HiCDOC StartedAt: 2025-11-11 18:11:41 -0500 (Tue, 11 Nov 2025) EndedAt: 2025-11-11 18:14:03 -0500 (Tue, 11 Nov 2025) EllapsedTime: 142.1 seconds RetCode: 0 Status: OK PackageFile: HiCDOC_1.12.0.tar.gz PackageFileSize: 3.42 MiB