Package: HiCDOC Version: 1.12.0 Command: /Library/Frameworks/R.framework/Resources/bin/R CMD INSTALL HiCDOC StartedAt: 2025-11-03 15:35:41 -0500 (Mon, 03 Nov 2025) EndedAt: 2025-11-03 15:36:37 -0500 (Mon, 03 Nov 2025) EllapsedTime: 55.8 seconds RetCode: 0 Status: OK