Package: HiCDOC Version: 1.12.0 Command: /Library/Frameworks/R.framework/Resources/bin/R CMD build --keep-empty-dirs --no-resave-data HiCDOC StartedAt: 2025-10-31 17:24:54 -0400 (Fri, 31 Oct 2025) EndedAt: 2025-10-31 17:27:58 -0400 (Fri, 31 Oct 2025) EllapsedTime: 184.0 seconds RetCode: 0 Status: OK PackageFile: HiCDOC_1.12.0.tar.gz PackageFileSize: 3.536 MiB