Package: HiCDOC Version: 1.12.0 Command: rm -rf HiCDOC.buildbin-libdir && mkdir HiCDOC.buildbin-libdir && /Users/biocbuild/BBS/utils/build-universal.sh HiCDOC_1.12.0.tar.gz /Library/Frameworks/R.framework/Resources/bin/R HiCDOC.buildbin-libdir StartedAt: 2025-11-01 01:38:26 -0400 (Sat, 01 Nov 2025) EndedAt: 2025-11-01 01:39:27 -0400 (Sat, 01 Nov 2025) EllapsedTime: 61.0 seconds RetCode: 0 Status: OK PackageFile: HiCDOC_1.12.0.tgz PackageFileSize: 3.526 MiB