Package: HiCDOC Version: 1.10.3 Command: /home/biocbuild/R/R/bin/R CMD INSTALL HiCDOC StartedAt: 2025-10-02 20:47:04 -0000 (Thu, 02 Oct 2025) EndedAt: 2025-10-02 20:48:03 -0000 (Thu, 02 Oct 2025) EllapsedTime: 58.8 seconds RetCode: 0 Status: OK