Package: HiCDOC Version: 1.10.3 Command: /home/biocbuild/R/R/bin/R CMD build --keep-empty-dirs --no-resave-data HiCDOC StartedAt: 2025-10-03 01:40:03 -0000 (Fri, 03 Oct 2025) EndedAt: 2025-10-03 01:43:59 -0000 (Fri, 03 Oct 2025) EllapsedTime: 235.9 seconds RetCode: 0 Status: OK PackageFile: HiCDOC_1.10.3.tar.gz PackageFileSize: 3.463 MiB