Package: HiCDOC Version: 1.10.0 Command: /Library/Frameworks/R.framework/Resources/bin/R CMD build --keep-empty-dirs --no-resave-data HiCDOC StartedAt: 2025-04-21 16:37:02 -0400 (Mon, 21 Apr 2025) EndedAt: 2025-04-21 16:38:07 -0400 (Mon, 21 Apr 2025) EllapsedTime: 65.7 seconds RetCode: 0 Status: OK PackageFile: HiCDOC_1.10.0.tar.gz PackageFileSize: 3.563 MiB