Package: HiCDOC Version: 1.10.3 Command: /Library/Frameworks/R.framework/Resources/bin/R CMD INSTALL HiCDOC StartedAt: 2025-10-13 16:52:35 -0400 (Mon, 13 Oct 2025) EndedAt: 2025-10-13 16:53:21 -0400 (Mon, 13 Oct 2025) EllapsedTime: 46.8 seconds RetCode: 0 Status: OK