Package: HiCDOC Version: 1.10.3 Command: /Library/Frameworks/R.framework/Resources/bin/R CMD build --keep-empty-dirs --no-resave-data HiCDOC StartedAt: 2025-10-14 02:13:21 -0400 (Tue, 14 Oct 2025) EndedAt: 2025-10-14 02:16:35 -0400 (Tue, 14 Oct 2025) EllapsedTime: 194.0 seconds RetCode: 0 Status: OK PackageFile: HiCDOC_1.10.3.tar.gz PackageFileSize: 3.558 MiB