Package: HiCDOC Version: 1.10.3 Command: rm -rf HiCDOC.buildbin-libdir && mkdir HiCDOC.buildbin-libdir && /Users/biocbuild/BBS/utils/build-universal.sh HiCDOC_1.10.3.tar.gz /Library/Frameworks/R.framework/Resources/bin/R HiCDOC.buildbin-libdir StartedAt: 2025-10-15 18:51:14 -0400 (Wed, 15 Oct 2025) EndedAt: 2025-10-15 18:52:07 -0400 (Wed, 15 Oct 2025) EllapsedTime: 52.7 seconds RetCode: 0 Status: OK PackageFile: HiCDOC_1.10.3.tgz PackageFileSize: 3.545 MiB