Package: HiCDCPlus Version: 1.18.0 Command: /home/biocbuild/R/R/bin/R CMD INSTALL HiCDCPlus StartedAt: 2025-11-10 22:03:44 -0000 (Mon, 10 Nov 2025) EndedAt: 2025-11-10 22:04:43 -0000 (Mon, 10 Nov 2025) EllapsedTime: 58.8 seconds RetCode: 0 Status: OK