Package: HiCDCPlus Version: 1.18.0 Command: /home/biocbuild/bbs-3.22-bioc/R/bin/R CMD INSTALL HiCDCPlus StartedAt: 2025-11-13 15:54:28 -0500 (Thu, 13 Nov 2025) EndedAt: 2025-11-13 15:55:15 -0500 (Thu, 13 Nov 2025) EllapsedTime: 47.3 seconds RetCode: 0 Status: OK