Package: HiCDCPlus Version: 1.18.0 Command: /home/biocbuild/bbs-3.22-bioc/R/bin/R CMD build --keep-empty-dirs --no-resave-data --md5 HiCDCPlus StartedAt: 2025-11-13 18:09:31 -0500 (Thu, 13 Nov 2025) EndedAt: 2025-11-13 18:11:45 -0500 (Thu, 13 Nov 2025) EllapsedTime: 134.1 seconds RetCode: 0 Status: OK PackageFile: HiCDCPlus_1.18.0.tar.gz PackageFileSize: 1.191 MiB