Package: HiCDCPlus Version: 1.16.0 Command: /Library/Frameworks/R.framework/Resources/bin/R CMD INSTALL HiCDCPlus StartedAt: 2025-10-13 16:36:12 -0400 (Mon, 13 Oct 2025) EndedAt: 2025-10-13 16:37:41 -0400 (Mon, 13 Oct 2025) EllapsedTime: 89.3 seconds RetCode: 0 Status: OK