Package: HiCBricks Version: 1.28.0 Command: /home/biocbuild/bbs-3.22-bioc/R/bin/R CMD INSTALL HiCBricks StartedAt: 2025-11-13 15:16:33 -0500 (Thu, 13 Nov 2025) EndedAt: 2025-11-13 15:16:49 -0500 (Thu, 13 Nov 2025) EllapsedTime: 15.7 seconds RetCode: 0 Status: OK