Package: HiCBricks Version: 1.28.0 Command: /Library/Frameworks/R.framework/Resources/bin/R CMD build --keep-empty-dirs --no-resave-data HiCBricks StartedAt: 2025-11-03 17:20:55 -0500 (Mon, 03 Nov 2025) EndedAt: 2025-11-03 17:22:33 -0500 (Mon, 03 Nov 2025) EllapsedTime: 98.3 seconds RetCode: 0 Status: OK PackageFile: HiCBricks_1.28.0.tar.gz PackageFileSize: 8.598 MiB