Package: HiCBricks Version: 1.28.0 Command: rm -rf HiCBricks.buildbin-libdir && mkdir HiCBricks.buildbin-libdir && /Users/biocbuild/BBS/utils/build-universal.sh HiCBricks_1.28.0.tar.gz /Library/Frameworks/R.framework/Resources/bin/R HiCBricks.buildbin-libdir StartedAt: 2025-11-03 01:45:03 -0500 (Mon, 03 Nov 2025) EndedAt: 2025-11-03 01:45:31 -0500 (Mon, 03 Nov 2025) EllapsedTime: 27.8 seconds RetCode: 0 Status: OK PackageFile: HiCBricks_1.28.0.tgz PackageFileSize: 9.09 MiB