Package: HiCBricks Version: 1.26.0 Command: /home/biocbuild/R/R/bin/R CMD INSTALL HiCBricks StartedAt: 2025-10-06 20:27:15 -0000 (Mon, 06 Oct 2025) EndedAt: 2025-10-06 20:27:38 -0000 (Mon, 06 Oct 2025) EllapsedTime: 23.3 seconds RetCode: 0 Status: OK