Package: HiCBricks Version: 1.26.0 Command: /home/biocbuild/R/R/bin/R CMD build --keep-empty-dirs --no-resave-data HiCBricks StartedAt: 2025-10-07 01:39:31 -0000 (Tue, 07 Oct 2025) EndedAt: 2025-10-07 01:41:06 -0000 (Tue, 07 Oct 2025) EllapsedTime: 95.1 seconds RetCode: 0 Status: OK PackageFile: HiCBricks_1.26.0.tar.gz PackageFileSize: 5.125 MiB