Package: HiCBricks Version: 1.26.0 Command: /Library/Frameworks/R.framework/Resources/bin/R CMD build --keep-empty-dirs --no-resave-data HiCBricks StartedAt: 2025-04-21 16:36:58 -0400 (Mon, 21 Apr 2025) EndedAt: 2025-04-21 16:37:27 -0400 (Mon, 21 Apr 2025) EllapsedTime: 29.3 seconds RetCode: 0 Status: OK PackageFile: HiCBricks_1.26.0.tar.gz PackageFileSize: 8.599 MiB