Package: Herper Version: 1.20.0 Command: /home/biocbuild/bbs-3.22-bioc/R/bin/R CMD INSTALL Herper StartedAt: 2025-11-13 15:11:32 -0500 (Thu, 13 Nov 2025) EndedAt: 2025-11-13 15:11:39 -0500 (Thu, 13 Nov 2025) EllapsedTime: 6.8 seconds RetCode: 0 Status: OK