Package: Herper Version: 1.20.0 Command: /home/biocbuild/bbs-3.22-bioc/R/bin/R CMD build --keep-empty-dirs --no-resave-data --md5 Herper StartedAt: 2025-11-13 18:08:35 -0500 (Thu, 13 Nov 2025) EndedAt: 2025-11-13 18:08:45 -0500 (Thu, 13 Nov 2025) EllapsedTime: 10.0 seconds RetCode: 0 Status: OK PackageFile: Herper_1.20.0.tar.gz PackageFileSize: 410.2 KiB