Package: HelloRanges Version: 1.36.0 Command: /home/biocbuild/R/R/bin/R CMD build --keep-empty-dirs --no-resave-data HelloRanges StartedAt: 2025-11-11 02:23:19 -0000 (Tue, 11 Nov 2025) EndedAt: 2025-11-11 02:27:55 -0000 (Tue, 11 Nov 2025) EllapsedTime: 275.9 seconds RetCode: 0 Status: OK PackageFile: HelloRanges_1.36.0.tar.gz PackageFileSize: 943.9 KiB