Package: HelloRanges Version: 1.36.0 Command: /home/biocbuild/bbs-3.22-bioc/R/bin/R CMD INSTALL HelloRanges StartedAt: 2025-11-13 15:41:11 -0500 (Thu, 13 Nov 2025) EndedAt: 2025-11-13 15:41:56 -0500 (Thu, 13 Nov 2025) EllapsedTime: 45.1 seconds RetCode: 0 Status: OK