Package: HelloRanges Version: 1.36.0 Command: /home/biocbuild/bbs-3.22-bioc/R/bin/R CMD check --install=check:HelloRanges.install-out.txt --library=/home/biocbuild/bbs-3.22-bioc/R/site-library --timings HelloRanges_1.36.0.tar.gz StartedAt: 2025-11-14 00:31:13 -0500 (Fri, 14 Nov 2025) EndedAt: 2025-11-14 00:39:47 -0500 (Fri, 14 Nov 2025) EllapsedTime: 513.6 seconds RetCode: 0 Status: OK CheckDir: HelloRanges.Rcheck Warnings: 0