Package: HelloRanges Version: 1.36.0 Command: /home/biocbuild/bbs-3.22-bioc/R/bin/R CMD build --keep-empty-dirs --no-resave-data --md5 HelloRanges StartedAt: 2025-11-14 18:08:34 -0500 (Fri, 14 Nov 2025) EndedAt: 2025-11-14 18:12:09 -0500 (Fri, 14 Nov 2025) EllapsedTime: 215.2 seconds RetCode: 0 Status: OK PackageFile: HelloRanges_1.36.0.tar.gz PackageFileSize: 955.6 KiB