Package: HelloRanges Version: 1.34.0 Command: /Library/Frameworks/R.framework/Resources/bin/R CMD INSTALL HelloRanges StartedAt: 2025-10-09 16:10:19 -0400 (Thu, 09 Oct 2025) EndedAt: 2025-10-09 16:11:44 -0400 (Thu, 09 Oct 2025) EllapsedTime: 85.1 seconds RetCode: 0 Status: OK