Package: HelloRanges Version: 1.34.0 Command: /Library/Frameworks/R.framework/Resources/bin/R CMD build --keep-empty-dirs --no-resave-data HelloRanges StartedAt: 2025-10-09 19:40:13 -0400 (Thu, 09 Oct 2025) EndedAt: 2025-10-09 19:48:21 -0400 (Thu, 09 Oct 2025) EllapsedTime: 488.0 seconds RetCode: 0 Status: OK PackageFile: HelloRanges_1.34.0.tar.gz PackageFileSize: 949.7 KiB