Package: HelloRanges Version: 1.34.0 Command: rm -rf HelloRanges.buildbin-libdir && mkdir HelloRanges.buildbin-libdir && /Users/biocbuild/BBS/utils/build-universal.sh HelloRanges_1.34.0.tar.gz /Library/Frameworks/R.framework/Resources/bin/R HelloRanges.buildbin-libdir StartedAt: 2025-10-10 13:42:02 -0400 (Fri, 10 Oct 2025) EndedAt: 2025-10-10 13:44:35 -0400 (Fri, 10 Oct 2025) EllapsedTime: 152.9 seconds RetCode: 0 Status: OK PackageFile: HelloRanges_1.34.0.tgz PackageFileSize: 952.8 KiB