Package: Heatplus Version: 3.18.0 Command: /home/biocbuild/bbs-3.22-bioc/R/bin/R CMD INSTALL Heatplus StartedAt: 2025-11-11 15:08:37 -0500 (Tue, 11 Nov 2025) EndedAt: 2025-11-11 15:08:46 -0500 (Tue, 11 Nov 2025) EllapsedTime: 9.4 seconds RetCode: 0 Status: OK