Package: Harshlight Version: 1.82.0 Command: /home/biocbuild/bbs-3.22-bioc/R/bin/R CMD INSTALL Harshlight StartedAt: 2025-11-13 15:16:04 -0500 (Thu, 13 Nov 2025) EndedAt: 2025-11-13 15:16:05 -0500 (Thu, 13 Nov 2025) EllapsedTime: 1.2 seconds RetCode: 1 Status: ERROR