Package: Harshlight Version: 1.80.0 Command: /home/biocbuild/bbs-3.21-bioc/R/bin/R CMD INSTALL Harshlight StartedAt: 2025-10-15 15:14:58 -0400 (Wed, 15 Oct 2025) EndedAt: 2025-10-15 15:14:59 -0400 (Wed, 15 Oct 2025) EllapsedTime: 1.5 seconds RetCode: 1 Status: ERROR