Package: Harshlight Version: 1.80.0 Command: /home/biocbuild/bbs-3.21-bioc/R/bin/R CMD build --keep-empty-dirs --no-resave-data Harshlight StartedAt: 2025-10-15 17:55:34 -0400 (Wed, 15 Oct 2025) EndedAt: 2025-10-15 17:55:35 -0400 (Wed, 15 Oct 2025) EllapsedTime: 1.0 seconds RetCode: 1 Status: ERROR PackageFile: None PackageFileSize: NA