Package: Harshlight Version: 1.82.0 Maintainer: Maurizio Pellegrino MaintainerEmail: mpellegri at berkeley.edu git_url: https://git.bioconductor.org/packages/Harshlight git_branch: RELEASE_3_22 git_last_commit: 8597b4a git_last_commit_date: 2025-10-29 09:58:12 -0400 (Wed, 29 Oct 2025)