Package: HarmonizR Version: 1.8.0 Command: /home/biocbuild/bbs-3.22-bioc/R/bin/R CMD build --keep-empty-dirs --no-resave-data --md5 HarmonizR StartedAt: 2025-11-11 18:09:18 -0500 (Tue, 11 Nov 2025) EndedAt: 2025-11-11 18:09:33 -0500 (Tue, 11 Nov 2025) EllapsedTime: 15.0 seconds RetCode: 0 Status: OK PackageFile: HarmonizR_1.8.0.tar.gz PackageFileSize: 52.43 KiB