Package: Harman Version: 1.38.0 Command: /home/biocbuild/bbs-3.22-bioc/R/bin/R CMD build --keep-empty-dirs --no-resave-data --md5 Harman StartedAt: 2025-11-11 18:08:57 -0500 (Tue, 11 Nov 2025) EndedAt: 2025-11-11 18:11:35 -0500 (Tue, 11 Nov 2025) EllapsedTime: 158.2 seconds RetCode: 0 Status: OK PackageFile: Harman_1.38.0.tar.gz PackageFileSize: 2.227 MiB