Package: HTqPCR Version: 1.64.0 Command: /home/biocbuild/R/R/bin/R CMD INSTALL HTqPCR StartedAt: 2025-11-13 21:21:50 -0000 (Thu, 13 Nov 2025) EndedAt: 2025-11-13 21:22:06 -0000 (Thu, 13 Nov 2025) EllapsedTime: 15.9 seconds RetCode: 0 Status: OK