Package: HTqPCR Version: 1.64.0 Command: /home/biocbuild/bbs-3.22-bioc/R/bin/R CMD INSTALL HTqPCR StartedAt: 2025-11-13 16:02:43 -0500 (Thu, 13 Nov 2025) EndedAt: 2025-11-13 16:02:50 -0500 (Thu, 13 Nov 2025) EllapsedTime: 7.0 seconds RetCode: 0 Status: OK