Package: HTqPCR Version: 1.62.0 Command: /Library/Frameworks/R.framework/Resources/bin/R CMD build --keep-empty-dirs --no-resave-data HTqPCR StartedAt: 2025-10-13 19:48:16 -0400 (Mon, 13 Oct 2025) EndedAt: 2025-10-13 19:49:00 -0400 (Mon, 13 Oct 2025) EllapsedTime: 44.0 seconds RetCode: 0 Status: OK PackageFile: HTqPCR_1.62.0.tar.gz PackageFileSize: 2.579 MiB