Package: HTqPCR Version: 1.62.0 Command: /home/biocbuild/R/R/bin/R CMD INSTALL HTqPCR StartedAt: 2025-09-25 20:27:27 -0000 (Thu, 25 Sep 2025) EndedAt: 2025-09-25 20:27:36 -0000 (Thu, 25 Sep 2025) EllapsedTime: 9.0 seconds RetCode: 0 Status: OK