Package: HTqPCR Version: 1.62.0 Command: /Library/Frameworks/R.framework/Resources/bin/R CMD INSTALL HTqPCR StartedAt: 2025-09-25 18:38:12 -0400 (Thu, 25 Sep 2025) EndedAt: 2025-09-25 18:38:20 -0400 (Thu, 25 Sep 2025) EllapsedTime: 8.1 seconds RetCode: 0 Status: OK