Package: HTqPCR Version: 1.62.0 Command: /Library/Frameworks/R.framework/Resources/bin/R CMD build --keep-empty-dirs --no-resave-data HTqPCR StartedAt: 2025-09-26 02:19:52 -0400 (Fri, 26 Sep 2025) EndedAt: 2025-09-26 02:20:18 -0400 (Fri, 26 Sep 2025) EllapsedTime: 25.9 seconds RetCode: 0 Status: OK PackageFile: HTqPCR_1.62.0.tar.gz PackageFileSize: 2.58 MiB