Package: HMMcopy Version: 1.52.0 Command: /home/biocbuild/bbs-3.22-bioc/R/bin/R CMD INSTALL HMMcopy StartedAt: 2025-11-13 15:02:39 -0500 (Thu, 13 Nov 2025) EndedAt: 2025-11-13 15:02:44 -0500 (Thu, 13 Nov 2025) EllapsedTime: 4.3 seconds RetCode: 0 Status: OK