Package: HMMcopy Version: 1.52.0 Command: /home/biocbuild/bbs-3.22-bioc/R/bin/R CMD build --keep-empty-dirs --no-resave-data --md5 HMMcopy StartedAt: 2025-11-13 18:13:00 -0500 (Thu, 13 Nov 2025) EndedAt: 2025-11-13 18:13:11 -0500 (Thu, 13 Nov 2025) EllapsedTime: 11.0 seconds RetCode: 0 Status: OK PackageFile: HMMcopy_1.52.0.tar.gz PackageFileSize: 2.152 MiB