Package: HIREewas Version: 1.28.0 Command: /home/biocbuild/bbs-3.22-bioc/R/bin/R CMD INSTALL HIREewas StartedAt: 2025-11-03 15:03:39 -0500 (Mon, 03 Nov 2025) EndedAt: 2025-11-03 15:03:53 -0500 (Mon, 03 Nov 2025) EllapsedTime: 13.2 seconds RetCode: 0 Status: OK