Package: HIREewas Version: 1.28.0 Command: /home/biocbuild/bbs-3.22-bioc/R/bin/R CMD build --keep-empty-dirs --no-resave-data --md5 HIREewas StartedAt: 2025-11-02 18:23:51 -0500 (Sun, 02 Nov 2025) EndedAt: 2025-11-02 18:25:00 -0500 (Sun, 02 Nov 2025) EllapsedTime: 69.1 seconds RetCode: 0 Status: OK PackageFile: HIREewas_1.28.0.tar.gz PackageFileSize: 266 KiB