Package: HIPPO Version: 1.22.0 Command: /home/biocbuild/bbs-3.22-bioc/R/bin/R CMD build --keep-empty-dirs --no-resave-data --md5 HIPPO StartedAt: 2025-11-11 18:14:02 -0500 (Tue, 11 Nov 2025) EndedAt: 2025-11-11 18:14:44 -0500 (Tue, 11 Nov 2025) EllapsedTime: 42.0 seconds RetCode: 0 Status: OK PackageFile: HIPPO_1.22.0.tar.gz PackageFileSize: 627.5 KiB