Package: HIPPO Version: 1.22.0 Command: /Library/Frameworks/R.framework/Resources/bin/R CMD INSTALL HIPPO StartedAt: 2025-11-10 15:12:25 -0500 (Mon, 10 Nov 2025) EndedAt: 2025-11-10 15:12:35 -0500 (Mon, 10 Nov 2025) EllapsedTime: 10.2 seconds RetCode: 0 Status: OK