Package: HIPPO Version: 1.22.0 Command: /Library/Frameworks/R.framework/Resources/bin/R CMD build --keep-empty-dirs --no-resave-data HIPPO StartedAt: 2025-11-10 16:42:49 -0500 (Mon, 10 Nov 2025) EndedAt: 2025-11-10 16:43:06 -0500 (Mon, 10 Nov 2025) EllapsedTime: 17.2 seconds RetCode: 0 Status: OK PackageFile: HIPPO_1.22.0.tar.gz PackageFileSize: 647.5 KiB